BEGIN:VCALENDAR
VERSION:2.0
PRODID:-//ChamberMaster//Event Calendar 2.0//EN
METHOD:PUBLISH
X-PUBLISHED-TTL:P1H
REFRESH-INTERVAL:P1H
CALSCALE:GREGORIAN
BEGIN:VTIMEZONE
TZID:America/Denver
BEGIN:DAYLIGHT
RRULE:FREQ=YEARLY;BYMONTH=3;BYDAY=2SU
DTSTART:20070101T000000
TZOFFSETFROM:-0700
TZOFFSETTO:-0600
TZNAME:Mountain Daylight Time
END:DAYLIGHT
BEGIN:STANDARD
RRULE:FREQ=YEARLY;BYMONTH=11;BYDAY=1SU
DTSTART:20070101T000000
TZOFFSETFROM:-0600
TZOFFSETTO:-0700
TZNAME:Mountain Standard Time
END:STANDARD
END:VTIMEZONE
BEGIN:VEVENT
DTSTART;TZID=America/Denver:20260602T171500
DTEND;TZID=America/Denver:20260602T173000
X-MICROSOFT-CDO-ALLDAYEVENT:FALSE
SUMMARY:Ribbon Cutting Lowry Luxury Travel-FREE EVENT
DESCRIPTION:Join us as we celebrate a new business and a new Chamber member at a special Ribbon Cutting for Lowry Luxury Travel.Come out to welcome this exciting new venture and learn how you can turn your dream vacations into reality. From bucket-list destinations to stress-free travel planning\, you'll get a glimpse into how Lowry Luxury Travel helps make it all happen.Stick around for a chance to win a 3-night stay in Lake Tahoe and enjoy a relaxed evening connecting with fellow community members.
X-ALT-DESC;FMTTYPE=text/html:<!DOCTYPE html><html><head><title></title></head><body aria-disabled="false"><div style='margin-inline: 0px\; overflow-wrap: break-word\; margin-bottom: 0px\; margin-top: 0px\; font-family: "Segoe UI Historic"\, "Segoe UI"\, Helvetica\, Arial\, sans-serif\; color: rgb(226\, 229\, 233)\; font-size: 15px\; font-style: normal\; font-variant-ligatures: normal\; font-variant-caps: normal\; font-weight: 400\; letter-spacing: normal\; orphans: 2\; text-align: start\; text-indent: 0px\; text-transform: none\; widows: 2\; word-spacing: 0px\; -webkit-text-stroke-width: 0px\; white-space: normal\; background-color: rgb(37\, 39\, 40)\; text-decoration-thickness: initial\; text-decoration-style: initial\; text-decoration-color: initial\;'>Join us as we celebrate a new business and a new Chamber member at a special Ribbon Cutting for Lowry Luxury Travel.</div><div style='margin-inline: 0px\; overflow-wrap: break-word\; margin-bottom: 0px\; margin-top: 0.5em\; font-family: "Segoe UI Historic"\, "Segoe UI"\, Helvetica\, Arial\, sans-serif\; color: rgb(226\, 229\, 233)\; font-size: 15px\; font-style: normal\; font-variant-ligatures: normal\; font-variant-caps: normal\; font-weight: 400\; letter-spacing: normal\; orphans: 2\; text-align: start\; text-indent: 0px\; text-transform: none\; widows: 2\; word-spacing: 0px\; -webkit-text-stroke-width: 0px\; white-space: normal\; background-color: rgb(37\, 39\, 40)\; text-decoration-thickness: initial\; text-decoration-style: initial\; text-decoration-color: initial\;'>Come out to welcome this exciting new venture and learn how you can turn your dream vacations into reality. From bucket-list destinations to stress-free travel planning\, you&rsquo\;ll get a glimpse into how Lowry Luxury Travel helps make it all happen.</div><div style='margin-inline: 0px\; overflow-wrap: break-word\; margin-bottom: 0px\; margin-top: 0.5em\; font-family: "Segoe UI Historic"\, "Segoe UI"\, Helvetica\, Arial\, sans-serif\; color: rgb(226\, 229\, 233)\; font-size: 15px\; font-style: normal\; font-variant-ligatures: normal\; font-variant-caps: normal\; font-weight: 400\; letter-spacing: normal\; orphans: 2\; text-align: start\; text-indent: 0px\; text-transform: none\; widows: 2\; word-spacing: 0px\; -webkit-text-stroke-width: 0px\; white-space: normal\; background-color: rgb(37\, 39\, 40)\; text-decoration-thickness: initial\; text-decoration-style: initial\; text-decoration-color: initial\;'>Stick around for a chance to win a 3-night stay in Lake Tahoe and enjoy a relaxed evening connecting with fellow community members.</div></body></html>
LOCATION:570 Wedge Way Pocatello
UID:e.1942.1449485
SEQUENCE:3
DTSTAMP:20260425T194229Z
URL:https://members.pocatelloidaho.com/events/Details/ribbon-cutting-lowry-luxury-travel-free-event-1716939?sourceTypeId=Hub
END:VEVENT
END:VCALENDAR
