BEGIN:VCALENDAR
VERSION:2.0
PRODID:-//ChamberMaster//Event Calendar 2.0//EN
METHOD:PUBLISH
X-PUBLISHED-TTL:P1H
REFRESH-INTERVAL:P1H
CALSCALE:GREGORIAN
BEGIN:VTIMEZONE
TZID:America/Denver
BEGIN:DAYLIGHT
RRULE:FREQ=YEARLY;BYMONTH=3;BYDAY=2SU
DTSTART:20070101T000000
TZOFFSETFROM:-0700
TZOFFSETTO:-0600
TZNAME:Mountain Daylight Time
END:DAYLIGHT
BEGIN:STANDARD
RRULE:FREQ=YEARLY;BYMONTH=11;BYDAY=1SU
DTSTART:20070101T000000
TZOFFSETFROM:-0600
TZOFFSETTO:-0700
TZNAME:Mountain Standard Time
END:STANDARD
END:VTIMEZONE
BEGIN:VEVENT
DTSTART;TZID=America/Denver:20260509T110000
DTEND;TZID=America/Denver:20260509T140000
X-MICROSOFT-CDO-ALLDAYEVENT:FALSE
SUMMARY:NAMIWalks Pocatello
DESCRIPTION:Join us for NAMIWalks Pocatello! Register today and start your Walks journey. All proceeds go to support NAMI Idaho's life-saving work.\nRegister at: www.namiidaho.org/namiwalks\nEvent Route Length: 5K loop starting at Bonneville Park\nRegistration Opens:\n11 a.m.\nOpening Ceremony Starts:\n11:30 a.m.\nWalk Begins:\n12 p.m.\nEvent Ends:\n2 p.m.\nA commitment to NAMIWalks means that you will travel the distance to strength\, with your head held high and your arms stretched out\, ready to embrace the life-changing opportunities that NAMI and the NAMI community afford.\n​Discover the unity of community at NAMIWalks.\nLearn what it feels like to truly be there for others and for yourself. Know firsthand your contribution to the mental health of our community - to NAMI's powerful services\, programs\, guidance\, and awareness-building. By sharing your place in the world\, you will both create gratitude and be its beneficiary.\n​No one finishes a NAMIWalks alone.\nTogether\, we are NAMIWalks. Holding each other close like the beams of a house. Stronger for what we build and more resilient. We will keep each other safe\, sound\, and poised for joy.
X-ALT-DESC;FMTTYPE=text/html:Join us for NAMIWalks Pocatello! Register today and start your Walks journey. All proceeds go to support NAMI Idaho's life-saving work.\nRegister at: www.namiidaho.org/namiwalks\nEvent Route Length: 5K loop starting at Bonneville Park\nRegistration Opens:\n11 a.m.\nOpening Ceremony Starts:\n11:30 a.m.\nWalk Begins:\n12 p.m.\nEvent Ends:\n2 p.m.\nA commitment to NAMIWalks means that you will travel the distance to strength\, with your head held high and your arms stretched out\, ready to embrace the life-changing opportunities that NAMI and the NAMI community afford.\n​Discover the unity of community at NAMIWalks.\nLearn what it feels like to truly be there for others and for yourself. Know firsthand your contribution to the mental health of our community - to NAMI's powerful services\, programs\, guidance\, and awareness-building. By sharing your place in the world\, you will both create gratitude and be its beneficiary.\n​No one finishes a NAMIWalks alone.\nTogether\, we are NAMIWalks. Holding each other close like the beams of a house. Stronger for what we build and more resilient. We will keep each other safe\, sound\, and poised for joy.
LOCATION:1400 W. Quinn Rd Pocatello ID 83201
UID:e.1942.1427713
SEQUENCE:3
DTSTAMP:20260421T041938Z
URL:https://members.pocatelloidaho.com/events/Details/namiwalks-pocatello-1688860?sourceTypeId=Hub
END:VEVENT
END:VCALENDAR
