BEGIN:VCALENDAR
VERSION:2.0
PRODID:-//ChamberMaster//Event Calendar 2.0//EN
METHOD:PUBLISH
X-PUBLISHED-TTL:P1H
REFRESH-INTERVAL:P1H
CALSCALE:GREGORIAN
BEGIN:VTIMEZONE
TZID:America/Denver
BEGIN:DAYLIGHT
RRULE:FREQ=YEARLY;BYMONTH=3;BYDAY=2SU
DTSTART:20070101T000000
TZOFFSETFROM:-0700
TZOFFSETTO:-0600
TZNAME:Mountain Daylight Time
END:DAYLIGHT
BEGIN:STANDARD
RRULE:FREQ=YEARLY;BYMONTH=11;BYDAY=1SU
DTSTART:20070101T000000
TZOFFSETFROM:-0600
TZOFFSETTO:-0700
TZNAME:Mountain Standard Time
END:STANDARD
END:VTIMEZONE
BEGIN:VEVENT
DTSTART;VALUE=DATE:20260516
DTEND;VALUE=DATE:20260517
TRANSP:TRANSPARENT
X-MICROSOFT-CDO-ALLDAYEVENT:TRUE
SUMMARY:LS Armory's Reapers Den Airsoft Shoothouse Event
DESCRIPTION:REAPER'S DEN SHOOTHOUSE CHAMPIONSHIP MAY 16\, 2026   10:00 AM   MIDNIGHT POCATELLO\, IDAHO   THE ULTIMATE CQB BATTLEGROUND $40 pre pay $50 at the door Buckle up\, Idaho airsoft warriors this isn't just another game day. This is 24 targets of pure\, pulse-pounding chaos in the heart of Reaper's Den's indoor shooting house. 14 ruthless hostiles that demand instant\, accurate fire. 10 innocent no-shoots lurking in shadows\, doorways\, and blind corners hit one and watch 15 brutal seconds slam onto your time. Every run is a razor-thin test of nerves\, trigger discipline\, and lightning-fast decision-making. One wrong call and your leaderboard dreams explode. One perfect run and you're in the finals fighting for glory. The Stakes? Nuclear. 1st Place walks away with the savage Lancer Tactical W10 Widowmaker   Gen 4 M4 beast loaded with GATE Aster MOSFET\, tightbore barrel\, ambi controls\, and that aggressive blacked-out WAG styling. This rifle doesn't just win games it dominates them. 2nd Place claims the lightning-fast WE Tech Hi-Capa Hyper Speed gas blowback pistol crisp trigger\, blazing full-auto capability\, and slide-racking realism that feels illegal. 3rd Place gears up for war with the VISM NcSTAR Tactical Vest complete with ANSI-rated goggles and full-face mask ready to level up your loadout on the spot. But the adrenaline doesn't stop at the house. Balloon Shoot Side Game runs all day $1 a pop\, helium balloons stuffed with instant prizes: Pop loud\, win fast. Ref Recognition Awards   For the player who shows the best sportsmanship and the one who embodies fair play all day. Community respect   everything. Door Prizes dropping constantly  Every entrant gets in on the action. Schedule: 10am -10:30 am - Doors open\, check in\, chrono guns\, safety brief (Early birds get 1 free warm up run) 10:30 am - 6:00 pm - Qualifing runs (Everyone gets 2 runs\; best run counts) 12:00 pm - 6:00 pm - Baloon shoot opens\, $1 per shot\, diffrent dificulties set up for 12 and younger\, after you pop one baloon you are done. 6:00 pm - 9:00 pm - Tie breaking runs if there are any ties. 12:00 pm - 12:00 am - Areana games. 9:30 - Ref recognition awards( best sportsmanship & Fair play) \,Garnd awards!! 12:00 am - Event closed\, arena lights off. $40 gets you in the fight   2 Qualifying attempts (best time counts)\, finals bracket drama\, live leaderboard screaming updates\, and a full 14-hour war zone from morning light to midnight under stadium lights. Gun rentals available for $20. There will be pulled pork sanwiches avalable to buy as well. This is Southeast Idaho's most intense\, most rewarding\, most talked-about airsoft event of 2026. Limited spots. High stakes. Zero mercy. Register now   see full rules\, schedule\, and waiver at reapersdenairsoft.com Bring your A-game. Bring your squad. Bring everything you've got. The Reaper is waiting. Don't keep him waiting long.
X-ALT-DESC;FMTTYPE=text/html:<!DOCTYPE html><html><head><title></title></head><body aria-disabled="false"><p>REAPER&#39\;S DEN SHOOTHOUSE CHAMPIONSHIP MAY 16\, 2026 &bull\; 10:00 AM &ndash\; MIDNIGHT POCATELLO\, IDAHO &ndash\; THE ULTIMATE CQB BATTLEGROUND&nbsp\;</p><p>$40 pre pay $50 at the door&nbsp\;</p><p>Buckle up\, Idaho airsoft warriors&mdash\;this isn&rsquo\;t just another game day. This is 24 targets of pure\, pulse-pounding chaos in the heart of Reaper&rsquo\;s Den&rsquo\;s indoor shooting house. 14 ruthless hostiles that demand instant\, accurate fire. 10 innocent no-shoots lurking in shadows\, doorways\, and blind corners&mdash\;hit one and watch 15 brutal seconds slam onto your time. Every run is a razor-thin test of nerves\, trigger discipline\, and lightning-fast decision-making. One wrong call and your leaderboard dreams explode. One perfect run and you&rsquo\;re in the finals fighting for glory. The Stakes? Nuclear.&nbsp\;</p><p>1st Place walks away with the savage Lancer Tactical W10 Widowmaker &mdash\; Gen 4 M4 beast loaded with GATE Aster MOSFET\, tightbore barrel\, ambi controls\, and that aggressive blacked-out WAG styling. This rifle doesn&rsquo\;t just win games&mdash\;it dominates them. 2nd Place claims the lightning-fast WE Tech Hi-Capa Hyper Speed gas blowback pistol&mdash\;crisp trigger\, blazing full-auto capability\, and slide-racking realism that feels illegal. 3rd Place gears up for war with the VISM NcSTAR Tactical Vest complete with ANSI-rated goggles and full-face mask&mdash\;ready to level up your loadout on the spot.&nbsp\;</p><p>But the adrenaline doesn&rsquo\;t stop at the house. Balloon Shoot Side Game runs all day&mdash\;$1 a pop\, helium balloons stuffed with instant prizes: Pop loud\, win fast. Ref Recognition Awards &mdash\; For the player who shows the best sportsmanship and the one who embodies fair play all day. Community respect &gt\; everything.&nbsp\;</p><p>Door Prizes dropping constantly&mdash\; Every entrant gets in on the action.&nbsp\;</p><p>Schedule: 10am -10:30 am - Doors open\, check in\, chrono guns\, safety brief (Early birds get 1 free warm up run) 10:30 am - 6:00 pm - Qualifing runs (Everyone gets 2 runs\; best run counts) 12:00 pm - 6:00 pm - Baloon shoot opens\, $1 per shot\, diffrent dificulties set up for 12 and younger\, after you pop one baloon you are done. 6:00 pm - 9:00 pm - Tie breaking runs if there are any ties. 12:00 pm - 12:00 am - Areana games. 9:30 - Ref recognition awards( best sportsmanship &amp\; Fair play) \,Garnd awards!! 12:00 am - Event closed\, arena lights off. $40 gets you in the fight &mdash\; 2 Qualifying attempts (best time counts)\, finals bracket drama\, live leaderboard screaming updates\, and a full 14-hour war zone from morning light to midnight under stadium lights. Gun rentals available for $20.&nbsp\;</p><p>There will be pulled pork sanwiches avalable to buy as well. This is Southeast Idaho&rsquo\;s most intense\, most rewarding\, most talked-about airsoft event of 2026. Limited spots. High stakes. Zero mercy. Register now &mdash\; see full rules\, schedule\, and waiver at reapersdenairsoft.com Bring your A-game. Bring your squad. Bring everything you&rsquo\;ve got. The Reaper is waiting. Don&rsquo\;t keep him waiting long.</p></body></html>
LOCATION:7804 West Katsilometes Road Pocatello ID 83204
UID:e.1942.1447438
SEQUENCE:3
DTSTAMP:20260425T193706Z
URL:https://members.pocatelloidaho.com/events/Details/ls-armory-s-reapers-den-airsoft-shoothouse-event-1714380?sourceTypeId=Hub
END:VEVENT
END:VCALENDAR
