BEGIN:VCALENDAR
VERSION:2.0
PRODID:-//ChamberMaster//Event Calendar 2.0//EN
METHOD:PUBLISH
X-PUBLISHED-TTL:P1H
REFRESH-INTERVAL:P1H
CALSCALE:GREGORIAN
BEGIN:VTIMEZONE
TZID:America/Denver
BEGIN:DAYLIGHT
RRULE:FREQ=YEARLY;BYMONTH=3;BYDAY=2SU
DTSTART:20070101T000000
TZOFFSETFROM:-0700
TZOFFSETTO:-0600
TZNAME:Mountain Daylight Time
END:DAYLIGHT
BEGIN:STANDARD
RRULE:FREQ=YEARLY;BYMONTH=11;BYDAY=1SU
DTSTART:20070101T000000
TZOFFSETFROM:-0600
TZOFFSETTO:-0700
TZNAME:Mountain Standard Time
END:STANDARD
END:VTIMEZONE
BEGIN:VEVENT
DTSTART;TZID=America/Denver:20260507T170000
DTEND;TZID=America/Denver:20260507T190000
X-MICROSOFT-CDO-ALLDAYEVENT:FALSE
SUMMARY:Business After Hours Pocatello Regional Airport FREE event
DESCRIPTION:FREE Event! This month's Business After Hours is hosted by Pocatello Regional Airport on May 7\, 2026\, from 5-7pm. Located at 1950 Airport Way. Complimentary food and drinks will be provided.Don't miss this FREE networking opportunity! Hosting a Business After Hours is a great way to highlight your business\, promote your events and make connections in the community. Call the Chamber to book yours!
X-ALT-DESC;FMTTYPE=text/html:<!DOCTYPE html><html><head><title></title></head><body aria-disabled="false"><p>FREE Event! This month&#39\;s Business After Hours is hosted by Pocatello Regional Airport on May 7\, 2026\, from 5-7pm. Located at 1950 Airport Way. Complimentary food and drinks will be provided.</p><p>Don&#39\;t miss this FREE networking opportunity!&nbsp\;</p><p>Hosting a Business After Hours is a great way to highlight your business\, promote your events and make connections in the community. Call the Chamber to book yours!</p></body></html>
LOCATION:1950 Airport Way Pocatello ID
UID:e.1942.1448517
SEQUENCE:3
DTSTAMP:20260422T011051Z
URL:https://members.pocatelloidaho.com/events/Details/business-after-hours-pocatello-regional-airport-free-event-1715516?sourceTypeId=Hub
END:VEVENT
END:VCALENDAR
